BEGIN:VCALENDAR
VERSION:2.0
PRODID:-//wp-events-plugin.com//7.2.3.1//EN
TZID:Europe/Amsterdam
X-WR-TIMEZONE:Europe/Amsterdam
BEGIN:VEVENT
UID:736@zhpv.nl
DTSTART;TZID=Europe/Amsterdam:20260103T130000
DTEND;TZID=Europe/Amsterdam:20260103T153000
DTSTAMP:20260101T144849Z
URL:https://www.zhpv.nl/events/beurs-jeugdbijeenkomst-2023-01-07/
SUMMARY:Beurs\, Jeugdbijeenkomst
DESCRIPTION:Entree:\nLeden: Gratis\nNiet-Leden: €1\,=\nContact:\nE-mail: 
 beurzen@zhpv.nl\n
CATEGORIES:Beurs Zoetermeer
LOCATION:Buurtvereniging Buytenrode\, César Franckrode 60\, Zoetermeer\, Z
 uid-Holland\, 2717 BG\, Netherlands
GEO:52.069039;4.471094
X-APPLE-STRUCTURED-LOCATION;VALUE=URI;X-ADDRESS=César Franckrode 60\, Zoet
 ermeer\, Zuid-Holland\, 2717 BG\, Netherlands;X-APPLE-RADIUS=100;X-TITLE=B
 uurtvereniging Buytenrode:geo:52.069039,4.471094
END:VEVENT
BEGIN:VTIMEZONE
TZID:Europe/Amsterdam
X-LIC-LOCATION:Europe/Amsterdam
BEGIN:STANDARD
DTSTART:20251026T020000
TZOFFSETFROM:+0200
TZOFFSETTO:+0100
TZNAME:CET
END:STANDARD
END:VTIMEZONE
END:VCALENDAR