BEGIN:VCALENDAR
VERSION:2.0
PRODID:-//wp-events-plugin.com//7.2.3.1//EN
TZID:Europe/Amsterdam
X-WR-TIMEZONE:Europe/Amsterdam
BEGIN:VEVENT
UID:716@zhpv.nl
DTSTART;TZID=Europe/Amsterdam:20261003T153000
DTEND;TZID=Europe/Amsterdam:20261003T170000
DTSTAMP:20260125T092502Z
URL:https://www.zhpv.nl/events/algemene-ledenvergadering-alv-4/
SUMMARY:Algemene LedenVergadering (ALV)
DESCRIPTION:Entree:\nLeden: Gratis\nNiet-Leden: Geen Toegang\nContact:\nHen
 k Jetten (secretaris)\nTelefoon: 079-3213218\nE-mail: secretaris@zhpv.nl
CATEGORIES:Algemene LedenVergadering
LOCATION:Buurtvereniging Buytenrode\, César Franckrode 60\, Zoetermeer\, Z
 uid-Holland\, 2717 BG\, Netherlands
GEO:52.069039;4.471094
X-APPLE-STRUCTURED-LOCATION;VALUE=URI;X-ADDRESS=César Franckrode 60\, Zoet
 ermeer\, Zuid-Holland\, 2717 BG\, Netherlands;X-APPLE-RADIUS=100;X-TITLE=B
 uurtvereniging Buytenrode:geo:52.069039,4.471094
END:VEVENT
BEGIN:VTIMEZONE
TZID:Europe/Amsterdam
X-LIC-LOCATION:Europe/Amsterdam
BEGIN:DAYLIGHT
DTSTART:20260329T030000
TZOFFSETFROM:+0100
TZOFFSETTO:+0200
TZNAME:CEST
END:DAYLIGHT
END:VTIMEZONE
END:VCALENDAR